BEGIN:VCALENDAR
VERSION:2.0
PRODID:-//hacksw/handcal//NONSGML v1.0//EN
CALSCALE:GREGORIAN
BEGIN:VEVENT
LOCATION:Glenbard North High School\, 990 Kuhn Rd\, Carol Stream\, IL 60188\, USA
DESCRIPTION:
DTSTART:20260427T233000Z
DTEND:20260428T013000Z
SUMMARY:Board Mtg-Glenbard North
URL;VALUE=URI:https://www.glenbard87.org/event/board-mtg-glenbard-north-13/
DTSTAMP:20260423T153823Z
UID:69ea3cef404d4
END:VEVENT
END:VCALENDAR