BEGIN:VCALENDAR
VERSION:2.0
PRODID:-//hacksw/handcal//NONSGML v1.0//EN
CALSCALE:GREGORIAN
BEGIN:VEVENT
LOCATION:
DESCRIPTION:
DTSTART:20231211T230000Z
DTEND:20231212T000000Z
SUMMARY:Finance Mtg-District Office
URL;VALUE=URI:https://www.glenbard87.org/event/finance-mtg-district-office-68/
DTSTAMP:20260422T064016Z
UID:69e86d50c3d73
END:VEVENT
END:VCALENDAR