BEGIN:VCALENDAR
VERSION:2.0
PRODID:-//hacksw/handcal//NONSGML v1.0//EN
CALSCALE:GREGORIAN
BEGIN:VEVENT
LOCATION:
DESCRIPTION:
DTSTART:20260427T230000Z
DTEND:20260427T233000Z
SUMMARY:Mtg Cancelled-Finance Mtg
URL;VALUE=URI:https://www.glenbard87.org/event/finance-mtg-glenbard-north-hs-5/
DTSTAMP:20260423T152909Z
UID:69ea3ac546083
END:VEVENT
END:VCALENDAR