BEGIN:VCALENDAR
VERSION:2.0
PRODID:-//hacksw/handcal//NONSGML v1.0//EN
CALSCALE:GREGORIAN
BEGIN:VEVENT
LOCATION:
DESCRIPTION:
DTSTART:20230209T000000Z
DTEND:20230209T010000Z
SUMMARY:GPS webinar: Essential Communication and Life Skills: A Kid’s Guide to Growing Up
URL;VALUE=URI:https://www.glenbard87.org/event/gps-webinar-essential-communication-and-life-skills-a-kids-guide-to-growing-up-2/
DTSTAMP:20260421T214147Z
UID:69e7ef1b1c893
END:VEVENT
END:VCALENDAR