BEGIN:VCALENDAR
VERSION:2.0
PRODID:-//hacksw/handcal//NONSGML v1.0//EN
CALSCALE:GREGORIAN
BEGIN:VEVENT
LOCATION:
DESCRIPTION:
DTSTART:20260423T000000Z
DTEND:20260423T010000Z
SUMMARY:GPS webinar with Ashley Graber and Maria Evans
URL;VALUE=URI:https://www.glenbard87.org/event/gps-webinar-with-ashley-graber-and-maria-evans-2/
DTSTAMP:20260421T053711Z
UID:69e70d07de041
END:VEVENT
END:VCALENDAR