BEGIN:VCALENDAR
VERSION:2.0
PRODID:-//hacksw/handcal//NONSGML v1.0//EN
CALSCALE:GREGORIAN
BEGIN:VEVENT
LOCATION:
DESCRIPTION:
DTSTART:20260427T224500Z
DTEND:20260427T233000Z
SUMMARY:Policy Mtg-Glenbard North HS
URL;VALUE=URI:https://www.glenbard87.org/event/policy-mtg-district-office-67/
DTSTAMP:20260423T153335Z
UID:69ea3bcfe46e8
END:VEVENT
END:VCALENDAR