BEGIN:VCALENDAR
VERSION:2.0
PRODID:-//hacksw/handcal//NONSGML v1.0//EN
CALSCALE:GREGORIAN
BEGIN:VEVENT
LOCATION:
DESCRIPTION:
DTSTART:20260422T230000Z
DTEND:20260423T000000Z
SUMMARY:Student Perf & Achieve Mtg-District Office
URL;VALUE=URI:https://www.glenbard87.org/event/student-perf-achieve-mtg-district-office-86/
DTSTAMP:20260421T054207Z
UID:69e70e2fe9afb
END:VEVENT
END:VCALENDAR